BEGIN:VCALENDAR
VERSION:2.0
PRODID:-//Tukios.com/
BEGIN:VEVENT
UID:7d4744b2-dccf-49b7-a4b1-0833f2f002de@obituaries.newleafcremation.com
DTSTAMP:20260424T184651Z
DTSTART:20260425T170000Z
DTEND:20260425T190000Z
SUMMARY:Memorial Gathering
DESCRIPTION:Celebration of Life will be from 1:45 p.m. to 2:30 p.m
URL:https://obituaries.newleafcremation.com/laverne-logan
LOCATION: 3930 Long Beach Rd  Island Park NY 11558
GEO:40.614753;-73.644837
END:VEVENT
END:VCALENDAR